BEGIN:VCALENDAR
VERSION:2.0
PRODID:-//hacksw/handcal//NONSGML v1.0//EN
CALSCALE:GREGORIAN
BEGIN:VEVENT
LOCATION:Children's Museum of Richmond\, 2626 West Broad Street\, Richmond\, VA
DESCRIPTION:https://www.rvaonthecheap.com/event/special-night-for-special-needs/
DTSTART;TZID=America/New_York:20180202T173000
DTEND;TZID=America/New_York:20180202T193000
SUMMARY:Special Night for Special Needs at CMoR
URL;VALUE=URI:https://www.rvaonthecheap.com/event/special-night-for-special-needs/
DTSTAMP:20260422T043202
UID:69e8878270887
END:VEVENT
END:VCALENDAR