BEGIN:VCALENDAR
VERSION:2.0
PRODID:-//hacksw/handcal//NONSGML v1.0//EN
CALSCALE:GREGORIAN
BEGIN:VEVENT
LOCATION:Wind Vineyards
DESCRIPTION:https://www.rvaonthecheap.com/event/keep-on-monster-trucking/
DTSTART;TZID=America/New_York:20260425T130000
DTEND;TZID=America/New_York:20260426T180000
SUMMARY:5th Annual Wind Farms and Vineyards Bud Break Festival & Monster Truck Show
URL;VALUE=URI:https://www.rvaonthecheap.com/event/keep-on-monster-trucking/
DTSTAMP:20260421T193723
UID:69e80a33939ab
END:VEVENT
END:VCALENDAR